BEGIN:VCALENDAR
VERSION:2.0
PRODID:-//Athabasca Region Tourism - ECPv6.15.16//NONSGML v1.0//EN
CALSCALE:GREGORIAN
METHOD:PUBLISH
X-ORIGINAL-URL:https://athabascaregiontourism.ca
X-WR-CALDESC:Events for Athabasca Region Tourism
REFRESH-INTERVAL;VALUE=DURATION:PT1H
X-Robots-Tag:noindex
X-PUBLISHED-TTL:PT1H
BEGIN:VTIMEZONE
TZID:America/Edmonton
BEGIN:DAYLIGHT
TZOFFSETFROM:-0700
TZOFFSETTO:-0600
TZNAME:MDT
DTSTART:20240310T090000
END:DAYLIGHT
BEGIN:STANDARD
TZOFFSETFROM:-0600
TZOFFSETTO:-0700
TZNAME:MST
DTSTART:20241103T080000
END:STANDARD
BEGIN:DAYLIGHT
TZOFFSETFROM:-0700
TZOFFSETTO:-0600
TZNAME:MDT
DTSTART:20250309T090000
END:DAYLIGHT
BEGIN:STANDARD
TZOFFSETFROM:-0600
TZOFFSETTO:-0700
TZNAME:MST
DTSTART:20251102T080000
END:STANDARD
BEGIN:DAYLIGHT
TZOFFSETFROM:-0700
TZOFFSETTO:-0600
TZNAME:MDT
DTSTART:20260308T090000
END:DAYLIGHT
BEGIN:STANDARD
TZOFFSETFROM:-0600
TZOFFSETTO:-0700
TZNAME:MST
DTSTART:20261101T080000
END:STANDARD
END:VTIMEZONE
BEGIN:VEVENT
DTSTART;VALUE=DATE:20251201
DTEND;VALUE=DATE:20260101
DTSTAMP:20260218T104552
CREATED:20251204T045846Z
LAST-MODIFIED:20251204T045846Z
UID:10001068-1764547200-1767225599@athabascaregiontourism.ca
SUMMARY:Christmas Story Walk
DESCRIPTION:A wish to be a christmas tree by Colleen Monroe is coming to the Athabasca Multiplex \nAll December long\, so make sure you stop by. \nFor more information please contact the Multiplex
URL:https://athabascaregiontourism.ca/event/christmas-story-walk/
ATTACH;FMTTYPE=image/jpeg:https://athabascaregiontourism.ca/wp-content/uploads/2025/12/C0F1543F-6E8F-4F40-8FE9-8CB35E6EEDF8_1_201_a.jpeg
END:VEVENT
BEGIN:VEVENT
DTSTART;TZID=America/Edmonton:20251203T080000
DTEND;TZID=America/Edmonton:20251203T170000
DTSTAMP:20260218T104552
CREATED:20251204T052220Z
LAST-MODIFIED:20251204T052220Z
UID:10001073-1764748800-1764781200@athabascaregiontourism.ca
SUMMARY:Christmas Shopping Event
DESCRIPTION:The elves got some new toys ready before Christmas this year! With kids Christmas shopping event coming to you the December for the 12th and the 13th — what a fun day! \n\n\n \n\n\n📍Plamondon\, 9613-100 street \n\n\n⏳ Friday 9:30am-5:30pm ~ Saturday 10am-4:30pm
URL:https://athabascaregiontourism.ca/event/christmas-shopping-event/
ATTACH;FMTTYPE=image/jpeg:https://athabascaregiontourism.ca/wp-content/uploads/2025/12/251A16E8-DE80-4930-86C4-F11D3F8A7483_1_201_a.jpeg
END:VEVENT
BEGIN:VEVENT
DTSTART;TZID=America/Edmonton:20251203T080000
DTEND;TZID=America/Edmonton:20251203T170000
DTSTAMP:20260218T104552
CREATED:20251204T053912Z
LAST-MODIFIED:20251204T053912Z
UID:10001074-1764748800-1764781200@athabascaregiontourism.ca
SUMMARY:Snowmobile Rally
DESCRIPTION:Athabasca River Runners is having a family event full of snow and speed! \nFeb 20th 2026 is early registration \nFor more Information please contact \nDave\, Lynn or Jean in the post provided
URL:https://athabascaregiontourism.ca/event/snowmobile-rally/
ATTACH;FMTTYPE=image/jpeg:https://athabascaregiontourism.ca/wp-content/uploads/2025/12/33AF7FCB-BE74-41E2-A4FB-F78C89F4A4ED_1_201_a.jpeg
END:VEVENT
BEGIN:VEVENT
DTSTART;TZID=America/Edmonton:20251203T080000
DTEND;TZID=America/Edmonton:20251203T170000
DTSTAMP:20260218T104552
CREATED:20251204T054533Z
LAST-MODIFIED:20251204T054533Z
UID:10001075-1764748800-1764781200@athabascaregiontourism.ca
SUMMARY:Uncle Hack & Sam Walker
DESCRIPTION:The Nancy Appleby Theatre is having a show that will knock your socks off\, so make sure you bring extras \nTo get tickets please visit the website http://www.dancercatsshop.com and for more information and please contact the Theatre(780) 675-5537
URL:https://athabascaregiontourism.ca/event/uncle-hack-sam-walker/
ATTACH;FMTTYPE=image/jpeg:https://athabascaregiontourism.ca/wp-content/uploads/2025/12/3751C666-4D9B-4EDC-B3EC-FAB547895D9C_1_201_a.jpeg
END:VEVENT
BEGIN:VEVENT
DTSTART;TZID=America/Edmonton:20251203T170000
DTEND;TZID=America/Edmonton:20251203T180000
DTSTAMP:20260218T104552
CREATED:20251204T050708Z
LAST-MODIFIED:20251204T050948Z
UID:10001070-1764781200-1764784800@athabascaregiontourism.ca
SUMMARY:Craft & Chat
DESCRIPTION:Crafts and chit chatting with your friends? What more could you want?! \nThe Rochester Library came up with a creative way to spill the tea while finding your inner artist \nDecember 3rd\, 10th\, & 17th from 5-6pm \nPlease register with the Rochester Library by contacting them – open to all ages \n\n\n\n\n\n7803490690
URL:https://athabascaregiontourism.ca/event/craft-chat/2025-12-03/
ATTACH;FMTTYPE=image/jpeg:https://athabascaregiontourism.ca/wp-content/uploads/2025/12/CA5409DC-92B0-4289-9D79-9036CAF5AC48_1_201_a.jpeg
END:VEVENT
END:VCALENDAR